BEGIN:VCALENDAR
VERSION:2.0
PRODID:-//Holy Trinity Greek Orthodox Church - ECPv6.15.20//NONSGML v1.0//EN
CALSCALE:GREGORIAN
METHOD:PUBLISH
X-WR-CALNAME:Holy Trinity Greek Orthodox Church
X-ORIGINAL-URL:https://htclearwater.com
X-WR-CALDESC:Events for Holy Trinity Greek Orthodox Church
REFRESH-INTERVAL;VALUE=DURATION:PT1H
X-Robots-Tag:noindex
X-PUBLISHED-TTL:PT1H
BEGIN:VTIMEZONE
TZID:America/New_York
BEGIN:DAYLIGHT
TZOFFSETFROM:-0500
TZOFFSETTO:-0400
TZNAME:EDT
DTSTART:20250309T070000
END:DAYLIGHT
BEGIN:STANDARD
TZOFFSETFROM:-0400
TZOFFSETTO:-0500
TZNAME:EST
DTSTART:20251102T060000
END:STANDARD
BEGIN:DAYLIGHT
TZOFFSETFROM:-0500
TZOFFSETTO:-0400
TZNAME:EDT
DTSTART:20260308T070000
END:DAYLIGHT
BEGIN:STANDARD
TZOFFSETFROM:-0400
TZOFFSETTO:-0500
TZNAME:EST
DTSTART:20261101T060000
END:STANDARD
BEGIN:DAYLIGHT
TZOFFSETFROM:-0500
TZOFFSETTO:-0400
TZNAME:EDT
DTSTART:20270314T070000
END:DAYLIGHT
BEGIN:STANDARD
TZOFFSETFROM:-0400
TZOFFSETTO:-0500
TZNAME:EST
DTSTART:20271107T060000
END:STANDARD
END:VTIMEZONE
BEGIN:VEVENT
DTSTART;TZID=America/New_York:20260420T171500
DTEND;TZID=America/New_York:20260420T183000
DTSTAMP:20260420T025157
CREATED:20260301T185217Z
LAST-MODIFIED:20260418T234934Z
UID:35524-1776705300-1776709800@htclearwater.com
SUMMARY:Greek School
DESCRIPTION:First day back.\n5/14/22 GB
URL:https://htclearwater.com/event/greek-school-8/
END:VEVENT
BEGIN:VEVENT
DTSTART;TZID=America/New_York:20260420T190000
DTEND;TZID=America/New_York:20260420T220000
DTSTAMP:20260420T025157
CREATED:20260326T173554Z
LAST-MODIFIED:20260418T234935Z
UID:36693-1776711600-1776722400@htclearwater.com
SUMMARY:Parish Council Meeting
DESCRIPTION:Join with Google Meet: https://meet.google.com/yjn-qmru-ddk\nLearn more about Meet at: https://support.google.com/a/users/answer/9282720
URL:https://htclearwater.com/event/parish-council-meeting-2/
END:VEVENT
END:VCALENDAR